BEGIN:VCALENDAR
VERSION:2.0
PRODID:-//https://ksgn.com///NONSGML kigkonsult.se iCalcreator 2.10.15//
METHOD:PUBLISH
BEGIN:VEVENT
UID:20260421T104022UTC-4369lFnTHM@https://ksgn.com/
DTSTAMP:20260421T104022Z
DESCRIPTION:Make a difference at the Southern California Festival and Sale 
 for Hunger and Relief. May 4th (4-9pm) & 5th (7am-3pm).Lots of family acti
 vities\, face painting\, balloon art\, antiques\, collectibles\, quilts fo
 r auction\, lots of delicious food\, build your own omelets\, and even a c
 lassic car show.Proceeds benefit families in need. Take the whole family t
 o this free event.More info at www.SoCalFestivalAndSale.org. https://ksgn.
 com/events/locations/event/806-southern-california-festival-and-sale
DTSTART:20180505T140000Z
DTEND:20180505T220000Z
LOCATION:Pacific Community Center (800 West Arrow Highway\, Upland\, CA 917
 86\, USA)
SUMMARY:Southern California Festival and Sale
URL:https://ksgn.com/events/locations/event/806-southern-california-festiva
 l-and-sale
END:VEVENT
END:VCALENDAR
