BEGIN:VCALENDAR
VERSION:2.0
PRODID:-//https://ksgn.com///NONSGML kigkonsult.se iCalcreator 2.10.15//
METHOD:PUBLISH
BEGIN:VEVENT
UID:20260421T100731UTC-8139d9R0ul@https://ksgn.com/
DTSTAMP:20260421T100731Z
DESCRIPTION:A vain princess soon discovers how cold her heart really is whe
 n she is cursed by a magical mirror and becomes the Snow Queen. Can her si
 ster warm her heart and redeem her self-obsessed sibling or will her effor
 ts receive a chilly reception?This world-premiere musical is a delight for
  all ages! February 24 – March 25\, 2018 • Deaf Interpretation on March 9\
 , 2018Performances: Friday – 7:30pm\; Saturday – 2:15pm and 7:30pm\; Sunda
 y – 2:15pmGet tickets online or at the box office... boxoffice.lifehouseth
 eater.com or call 909-335-3037 https://ksgn.com/events/locations/event/100
 8-snow-queen-at-lifehouse-theater
DTSTART:20180225T033000Z
DTEND:20180225T050000Z
LOCATION:LifeHouse Theater (1135 Church Street\, Redlands\, CA 92374\, USA)
SUMMARY:Snow Queen at LifeHouse Theater
URL:https://ksgn.com/events/locations/event/1008-snow-queen-at-lifehouse-th
 eater
END:VEVENT
END:VCALENDAR
